BEGIN:VCALENDAR
VERSION:2.0
PRODID:SchoolNow
CALSCALE:GREGORIAN
BEGIN:VEVENT
UID:cf2334aa-9927-11ee-9723-0a58a9feac02
DTSTAMP:20231212T195115Z
SUMMARY:This is a test
URL;VALUE=URI:https://www.rak12.org/calendar/4995216/this-is-a-test
DTSTART:20231212T195000Z
DTEND:20231212T195200Z
END:VEVENT
END:VCALENDAR
