BEGIN:VCALENDAR
VERSION:2.0
PRODID:SchoolNow
CALSCALE:GREGORIAN
BEGIN:VEVENT
UID:12b192f0-f63a-11ef-b3d3-0a58a9feac02
DTSTAMP:20260423T215115Z
SUMMARY:Karate
LOCATION:LS Gym
URL;VALUE=URI:https://www.rak12.org/calendar/7574067/karate
DTSTART:20260117T190000Z
DTEND:20260117T210000Z
END:VEVENT
END:VCALENDAR
