BEGIN:VCALENDAR
VERSION:2.0
PRODID:SchoolNow
CALSCALE:GREGORIAN
BEGIN:VEVENT
UID:12f2a8e4-f63a-11ef-a1c7-0a58a9feac02
DTSTAMP:20260423T215115Z
SUMMARY:Karate
LOCATION:LS Gym
URL;VALUE=URI:https://www.rak12.org/calendar/7574072/karate
DTSTART:20260221T190000Z
DTEND:20260221T210000Z
END:VEVENT
END:VCALENDAR
