BEGIN:VCALENDAR
VERSION:2.0
PRODID:SchoolNow
CALSCALE:GREGORIAN
BEGIN:VEVENT
UID:12f2aae2-f63a-11ef-a5a5-0a58a9feac02
DTSTAMP:20260423T215115Z
SUMMARY:Karate
LOCATION:LS Gym
URL;VALUE=URI:https://www.rak12.org/calendar/7574073/karate
DTSTART:20260228T170000Z
DTEND:20260228T210000Z
END:VEVENT
END:VCALENDAR
