BEGIN:VCALENDAR
VERSION:2.0
PRODID:SchoolNow
CALSCALE:GREGORIAN
BEGIN:VEVENT
UID:12f2b51e-f63a-11ef-a036-0a58a9feac02
DTSTAMP:20260423T215115Z
SUMMARY:Karate
LOCATION:LS Gym
URL;VALUE=URI:https://www.rak12.org/calendar/7574078/karate
DTSTART:20260404T180000Z
DTEND:20260404T200000Z
END:VEVENT
END:VCALENDAR
