BEGIN:VCALENDAR
VERSION:2.0
PRODID:SchoolNow
CALSCALE:GREGORIAN
BEGIN:VEVENT
UID:2ab9152e-05c3-11f0-b3d3-02ea0640449d
DTSTAMP:20260424T035603Z
SUMMARY:School Closed
URL;VALUE=URI:https://www.rak12.org/calendar/7733774/school-closed
DTSTART;VALUE=DATE:20251224
DTEND;VALUE=DATE:20251225
END:VEVENT
END:VCALENDAR
