BEGIN:VCALENDAR
VERSION:2.0
PRODID:SchoolNow
CALSCALE:GREGORIAN
BEGIN:VEVENT
UID:2ab9170e-05c3-11f0-bd9e-02ea0640449d
DTSTAMP:20260424T035603Z
SUMMARY:School Closed
URL;VALUE=URI:https://www.rak12.org/calendar/7733776/school-closed
DTSTART;VALUE=DATE:20251226
DTEND;VALUE=DATE:20251227
END:VEVENT
END:VCALENDAR
