BEGIN:VCALENDAR
VERSION:2.0
PRODID:SchoolNow
CALSCALE:GREGORIAN
BEGIN:VEVENT
UID:2ab918e4-05c3-11f0-92e8-02ea0640449d
DTSTAMP:20260424T035603Z
SUMMARY:School Closed
URL;VALUE=URI:https://www.rak12.org/calendar/7733778/school-closed
DTSTART;VALUE=DATE:20251230
DTEND;VALUE=DATE:20251231
END:VEVENT
END:VCALENDAR
