BEGIN:VCALENDAR
VERSION:2.0
PRODID:SchoolNow
CALSCALE:GREGORIAN
BEGIN:VEVENT
UID:2ab91c7c-05c3-11f0-b742-02ea0640449d
DTSTAMP:20260423T215114Z
SUMMARY:School Closed
URL;VALUE=URI:https://www.rak12.org/calendar/7733782/school-closed
DTSTART;VALUE=DATE:20260119
DTEND;VALUE=DATE:20260120
END:VEVENT
END:VCALENDAR
