BEGIN:VCALENDAR
VERSION:2.0
PRODID:SchoolNow
CALSCALE:GREGORIAN
BEGIN:VEVENT
UID:2ab91d58-05c3-11f0-84f6-02ea0640449d
DTSTAMP:20260423T215114Z
SUMMARY:SLC
URL;VALUE=URI:https://www.rak12.org/calendar/7733783/slc
DTSTART:20260129T130000Z
DTEND:20260130T010000Z
END:VEVENT
END:VCALENDAR
