BEGIN:VCALENDAR
VERSION:2.0
PRODID:SchoolNow
CALSCALE:GREGORIAN
BEGIN:VEVENT
UID:2ab91e3e-05c3-11f0-9267-02ea0640449d
DTSTAMP:20260423T215114Z
SUMMARY:SLC
LOCATION:Virtual
URL;VALUE=URI:https://www.rak12.org/calendar/7733784/slc
DTSTART:20260130T130000Z
DTEND:20260130T170000Z
END:VEVENT
END:VCALENDAR
