BEGIN:VCALENDAR
VERSION:2.0
PRODID:SchoolNow
CALSCALE:GREGORIAN
BEGIN:VEVENT
UID:2ab92000-05c3-11f0-8246-02ea0640449d
DTSTAMP:20260423T215114Z
SUMMARY:End of Trimester 2
URL;VALUE=URI:https://www.rak12.org/calendar/7733786/end-of-trimester-2
DTSTART;VALUE=DATE:20260310
DTEND;VALUE=DATE:20260311
END:VEVENT
END:VCALENDAR
