BEGIN:VCALENDAR
VERSION:2.0
PRODID:SchoolNow
CALSCALE:GREGORIAN
BEGIN:VEVENT
UID:2ab9237a-05c3-11f0-9ec7-02ea0640449d
DTSTAMP:20260423T215114Z
SUMMARY:School Closed
URL;VALUE=URI:https://www.rak12.org/calendar/7733790/school-closed
DTSTART;VALUE=DATE:20260409
DTEND;VALUE=DATE:20260410
END:VEVENT
END:VCALENDAR
