BEGIN:VCALENDAR
VERSION:2.0
PRODID:SchoolNow
CALSCALE:GREGORIAN
BEGIN:VEVENT
UID:2ab926cc-05c3-11f0-b5e7-02ea0640449d
DTSTAMP:20260423T215114Z
SUMMARY:SLC
URL;VALUE=URI:https://www.rak12.org/calendar/7733792/slc
DTSTART:20260430T120000Z
DTEND:20260501T000000Z
END:VEVENT
END:VCALENDAR
