BEGIN:VCALENDAR
VERSION:2.0
PRODID:SchoolNow
CALSCALE:GREGORIAN
BEGIN:VEVENT
UID:2ab928a2-05c3-11f0-936c-02ea0640449d
DTSTAMP:20260423T215114Z
SUMMARY:Early Dismissal
URL;VALUE=URI:https://www.rak12.org/calendar/7733794/early-dismissal
DTSTART:20260522T150000Z
DTEND:20260522T193000Z
END:VEVENT
END:VCALENDAR
