BEGIN:VCALENDAR
VERSION:2.0
PRODID:SchoolNow
CALSCALE:GREGORIAN
BEGIN:VEVENT
UID:2b3b387e-05c3-11f0-9816-02ea0640449d
DTSTAMP:20260423T215115Z
SUMMARY:Early Release Day
URL;VALUE=URI:https://www.rak12.org/calendar/7733817/early-release-day
DTSTART:20260114T183000Z
DTEND:20260114T203000Z
END:VEVENT
END:VCALENDAR
