BEGIN:VCALENDAR
VERSION:2.0
PRODID:SchoolNow
CALSCALE:GREGORIAN
BEGIN:VEVENT
UID:2b3b3c20-05c3-11f0-91e8-02ea0640449d
DTSTAMP:20260423T215115Z
SUMMARY:Early Release Day
URL;VALUE=URI:https://www.rak12.org/calendar/7733821/early-release-day
DTSTART:20260211T183000Z
DTEND:20260211T203000Z
END:VEVENT
END:VCALENDAR
