BEGIN:VCALENDAR
VERSION:2.0
PRODID:SchoolNow
CALSCALE:GREGORIAN
BEGIN:VEVENT
UID:2b3b4094-05c3-11f0-aa53-02ea0640449d
DTSTAMP:20260423T215115Z
SUMMARY:Early Release Day
URL;VALUE=URI:https://www.rak12.org/calendar/7733826/early-release-day
DTSTART:20260318T173000Z
DTEND:20260318T193000Z
END:VEVENT
END:VCALENDAR
