BEGIN:VCALENDAR
VERSION:2.0
PRODID:SchoolNow
CALSCALE:GREGORIAN
BEGIN:VEVENT
UID:b709d5c8-3ebb-11f0-b952-0eb90fdad24b
DTSTAMP:20260423T215114Z
SUMMARY:Lottery Drawing for the 2026 /2027 School Year
URL;VALUE=URI:https://www.rak12.org/calendar/8234847/lottery-drawing-for-th
 e-2026-2027-school-year
DTSTART:20260126T140000Z
DTEND:20260126T153000Z
END:VEVENT
END:VCALENDAR
