BEGIN:VCALENDAR
VERSION:2.0
PRODID:SchoolNow
CALSCALE:GREGORIAN
BEGIN:VEVENT
UID:a8d0c8ce-3f13-11f0-b827-0a58a9feac02
DTSTAMP:20260423T234008Z
SUMMARY:Varsity Boys Baseball @ Collegium Charter School (Exton)
LOCATION:200 Municipal Drive  Thorndale\, PA 19372
URL;VALUE=URI:https://www.rak12.org/calendar/8236178/varsity-boys-baseball-
 collegium-charter-school-exton
DTSTART:20260324T190000Z
DTEND:20260324T200000Z
END:VEVENT
END:VCALENDAR
