BEGIN:VCALENDAR
VERSION:2.0
PRODID:SchoolNow
CALSCALE:GREGORIAN
BEGIN:VEVENT
UID:a8d0cacc-3f13-11f0-8c6c-0a58a9feac02
DTSTAMP:20260423T234007Z
SUMMARY:Varsity Boys Baseball @ Jenkintown MS/HS
LOCATION:West & Highland Avenues Jenkintown\, PA 19046
URL;VALUE=URI:https://www.rak12.org/calendar/8236180/varsity-boys-baseball-
 jenkintown-ms-hs
DTSTART:20260513T194500Z
DTEND:20260513T204500Z
END:VEVENT
END:VCALENDAR
