BEGIN:VCALENDAR
VERSION:2.0
PRODID:SchoolNow
CALSCALE:GREGORIAN
BEGIN:VEVENT
UID:a8d0cbbc-3f13-11f0-85f7-0a58a9feac02
DTSTAMP:20260423T234008Z
SUMMARY:Varsity Boys Baseball vs Delaware County Christian School (Senior D
 ay Game)
LOCATION:771 Wheatland Street Phoenixville\, PA 19460
URL;VALUE=URI:https://www.rak12.org/calendar/8236181/varsity-boys-baseball-
 vs-delaware-county-christian-school-senior-day-game
DTSTART:20260506T191500Z
DTEND:20260506T201500Z
END:VEVENT
END:VCALENDAR
