BEGIN:VCALENDAR
VERSION:2.0
PRODID:SchoolNow
CALSCALE:GREGORIAN
BEGIN:VEVENT
UID:a8d0cf68-3f13-11f0-a5fc-0a58a9feac02
DTSTAMP:20260423T173508Z
SUMMARY:Varsity Boys Baseball @ Faith Christian Academy
LOCATION:2255 Allentown Road Quakertown\, PA
URL;VALUE=URI:https://www.rak12.org/calendar/8236184/varsity-boys-baseball-
 faith-christian-academy
DTSTART:20260420T200000Z
DTEND:20260420T210000Z
END:VEVENT
END:VCALENDAR
