BEGIN:VCALENDAR
VERSION:2.0
PRODID:SchoolNow
CALSCALE:GREGORIAN
BEGIN:VEVENT
UID:a8d0d094-3f13-11f0-b7c7-0a58a9feac02
DTSTAMP:20260423T173508Z
SUMMARY:POSTPONED: Varsity Boys Baseball vs Church Farm School
LOCATION:771 Wheatland Street Phoenixville\, PA 19460
URL;VALUE=URI:https://www.rak12.org/calendar/8236185/postponed-varsity-boys
 -baseball-vs-church-farm-school
DTSTART:20260422T191500Z
DTEND:20260422T201500Z
END:VEVENT
END:VCALENDAR
