BEGIN:VCALENDAR
VERSION:2.0
PRODID:SchoolNow
CALSCALE:GREGORIAN
BEGIN:VEVENT
UID:a8d0d1de-3f13-11f0-87d2-0a58a9feac02
DTSTAMP:20260423T173508Z
SUMMARY:Varsity Boys Baseball @ Calvary Christian Academy
LOCATION:1400 Southhampton Road Philadelphia\, PA 19116
URL;VALUE=URI:https://www.rak12.org/calendar/8236186/varsity-boys-baseball-
 calvary-christian-academy
DTSTART:20260429T193000Z
DTEND:20260429T203000Z
END:VEVENT
END:VCALENDAR
