BEGIN:VCALENDAR
VERSION:2.0
PRODID:SchoolNow
CALSCALE:GREGORIAN
BEGIN:VEVENT
UID:a8d0d5ee-3f13-11f0-84d5-0a58a9feac02
DTSTAMP:20260423T234007Z
SUMMARY:Varsity Girls Softball @ Calvary Christian Academy
LOCATION:1400 Southhampton Road Philadelphia\, PA 19116
URL;VALUE=URI:https://www.rak12.org/calendar/8236189/varsity-girls-softball
 -calvary-christian-academy
DTSTART:20260325T193000Z
DTEND:20260325T203000Z
END:VEVENT
END:VCALENDAR
