BEGIN:VCALENDAR
VERSION:2.0
PRODID:SchoolNow
CALSCALE:GREGORIAN
BEGIN:VEVENT
UID:a8d0d6d4-3f13-11f0-900f-0a58a9feac02
DTSTAMP:20260423T234007Z
SUMMARY:Varsity Girls Softball @ Faith Christian Academy
LOCATION:2255 Allentown Road Quakertown\, PA
URL;VALUE=URI:https://www.rak12.org/calendar/8236190/varsity-girls-softball
 -faith-christian-academy
DTSTART:20260326T200000Z
DTEND:20260326T210000Z
END:VEVENT
END:VCALENDAR
