BEGIN:VCALENDAR
VERSION:2.0
PRODID:SchoolNow
CALSCALE:GREGORIAN
BEGIN:VEVENT
UID:a8d0d7c4-3f13-11f0-87d2-0a58a9feac02
DTSTAMP:20260423T234008Z
SUMMARY:Varsity Girls Softball @ MaST Community Charter School
LOCATION:6501 New State Road Philadelphia\, PA 19135
URL;VALUE=URI:https://www.rak12.org/calendar/8236191/varsity-girls-softball
 -mast-community-charter-school
DTSTART:20260330T194500Z
DTEND:20260330T204500Z
END:VEVENT
END:VCALENDAR
