BEGIN:VCALENDAR
VERSION:2.0
PRODID:SchoolNow
CALSCALE:GREGORIAN
BEGIN:VEVENT
UID:a8d0d8aa-3f13-11f0-a484-0a58a9feac02
DTSTAMP:20260423T173508Z
SUMMARY:Varsity Girls Softball @ Bristol High School
LOCATION:1801 Wilson Ave Bristol\, PA 19007
URL;VALUE=URI:https://www.rak12.org/calendar/8236192/varsity-girls-softball
 -bristol-high-school
DTSTART:20260401T194500Z
DTEND:20260401T204500Z
END:VEVENT
END:VCALENDAR
