BEGIN:VCALENDAR
VERSION:2.0
PRODID:SchoolNow
CALSCALE:GREGORIAN
BEGIN:VEVENT
UID:a8d0da80-3f13-11f0-a9ae-0a58a9feac02
DTSTAMP:20260423T173508Z
SUMMARY:Varsity Girls Softball vs MaST Community Charter School
LOCATION:Fillmore Street and Franklin Avenue Phoenixville\, PA 19460
URL;VALUE=URI:https://www.rak12.org/calendar/8236194/varsity-girls-softball
 -vs-mast-community-charter-school
DTSTART:20260413T194500Z
DTEND:20260413T204500Z
END:VEVENT
END:VCALENDAR
