BEGIN:VCALENDAR
VERSION:2.0
PRODID:SchoolNow
CALSCALE:GREGORIAN
BEGIN:VEVENT
UID:a8d0db66-3f13-11f0-88cc-0a58a9feac02
DTSTAMP:20260423T173509Z
SUMMARY:Varsity Girls Softball vs Faith Christian Academy
LOCATION:Fillmore Street and Franklin Avenue Phoenixville\, PA 19460
URL;VALUE=URI:https://www.rak12.org/calendar/8236195/varsity-girls-softball
 -vs-faith-christian-academy
DTSTART:20260415T194500Z
DTEND:20260415T204500Z
END:VEVENT
END:VCALENDAR
