BEGIN:VCALENDAR
VERSION:2.0
PRODID:SchoolNow
CALSCALE:GREGORIAN
BEGIN:VEVENT
UID:a8d0dc4c-3f13-11f0-91d3-0a58a9feac02
DTSTAMP:20260423T173508Z
SUMMARY:Varsity Girls Softball vs Bristol High School
URL;VALUE=URI:https://www.rak12.org/calendar/8236196/varsity-girls-softball
 -vs-bristol-high-school
DTSTART:20260417T194500Z
DTEND:20260417T204500Z
END:VEVENT
END:VCALENDAR
