BEGIN:VCALENDAR
VERSION:2.0
PRODID:SchoolNow
CALSCALE:GREGORIAN
BEGIN:VEVENT
UID:a8d0dd32-3f13-11f0-b3c7-0a58a9feac02
DTSTAMP:20260423T173509Z
SUMMARY:Varsity Girls Softball vs Plumstead Christian School
LOCATION:Fillmore Street and Franklin Avenue Phoenixville\, PA 19460
URL;VALUE=URI:https://www.rak12.org/calendar/8236197/varsity-girls-softball
 -vs-plumstead-christian-school
DTSTART:20260421T194500Z
DTEND:20260421T204500Z
END:VEVENT
END:VCALENDAR
