BEGIN:VCALENDAR
VERSION:2.0
PRODID:SchoolNow
CALSCALE:GREGORIAN
BEGIN:VEVENT
UID:a8d0de18-3f13-11f0-bc51-0a58a9feac02
DTSTAMP:20260423T173508Z
SUMMARY:Varsity Girls Softball @ Collegium Charter School (Exton)
LOCATION:200 Municipal Drive  Thorndale\, PA 19372
URL;VALUE=URI:https://www.rak12.org/calendar/8236198/varsity-girls-softball
 -collegium-charter-school-exton
DTSTART:20260423T190000Z
DTEND:20260423T200000Z
END:VEVENT
END:VCALENDAR
