BEGIN:VCALENDAR
VERSION:2.0
PRODID:SchoolNow
CALSCALE:GREGORIAN
BEGIN:VEVENT
UID:a8d0defe-3f13-11f0-9c2f-0a58a9feac02
DTSTAMP:20260423T173508Z
SUMMARY:Varsity Girls Softball @ The Christian Academy
LOCATION:4301 Chandler Dr Brookhaven\, PA 19015
URL;VALUE=URI:https://www.rak12.org/calendar/8236199/varsity-girls-softball
 -the-christian-academy
DTSTART:20260427T200000Z
DTEND:20260427T210000Z
END:VEVENT
END:VCALENDAR
