BEGIN:VCALENDAR
VERSION:2.0
PRODID:SchoolNow
CALSCALE:GREGORIAN
BEGIN:VEVENT
UID:a8e464e2-3f13-11f0-911d-0a58a9feac02
DTSTAMP:20260423T173508Z
SUMMARY:Varsity Girls Softball vs Dock Mennonite Academy
LOCATION:Fillmore Street and Franklin Avenue Phoenixville\, PA 19460
URL;VALUE=URI:https://www.rak12.org/calendar/8236200/varsity-girls-softball
 -vs-dock-mennonite-academy
DTSTART:20260429T194500Z
DTEND:20260429T204500Z
END:VEVENT
END:VCALENDAR
