BEGIN:VCALENDAR
VERSION:2.0
PRODID:SchoolNow
CALSCALE:GREGORIAN
BEGIN:VEVENT
UID:ba4ab6b8-52a6-11f0-af76-0a58a9feac02
DTSTAMP:20260423T215114Z
SUMMARY:Science PSSA (Grades 5 & 8)
LOCATION:LGI
URL;VALUE=URI:https://www.rak12.org/calendar/8357385/science-pssa-grades-5-
 8
DTSTART:20260504T120000Z
DTEND:20260504T163000Z
END:VEVENT
END:VCALENDAR
