BEGIN:VCALENDAR
VERSION:2.0
PRODID:SchoolNow
CALSCALE:GREGORIAN
BEGIN:VEVENT
UID:ba4abeba-52a6-11f0-89bc-0a58a9feac02
DTSTAMP:20260423T215114Z
SUMMARY:Spring Keystone: Algebra I
URL;VALUE=URI:https://www.rak12.org/calendar/8357389/spring-keystone-algebr
 a-i
DTSTART:20260515T120000Z
DTEND:20260515T160000Z
END:VEVENT
END:VCALENDAR
