BEGIN:VCALENDAR
VERSION:2.0
PRODID:SchoolNow
CALSCALE:GREGORIAN
BEGIN:VEVENT
UID:ba4abfaa-52a6-11f0-8c2e-0a58a9feac02
DTSTAMP:20260423T215115Z
SUMMARY:Spring Keystone: Algebra I
LOCATION:LGI
URL;VALUE=URI:https://www.rak12.org/calendar/8357390/spring-keystone-algebr
 a-i
DTSTART:20260518T120000Z
DTEND:20260518T163000Z
END:VEVENT
END:VCALENDAR
