BEGIN:VCALENDAR
VERSION:2.0
PRODID:SchoolNow
CALSCALE:GREGORIAN
BEGIN:VEVENT
UID:ba7c6366-52a6-11f0-bc0b-0a58a9feac02
DTSTAMP:20260423T215115Z
SUMMARY:Math PSSA (Grades 3-8)
LOCATION:LGI
URL;VALUE=URI:https://www.rak12.org/calendar/8357394/math-pssa-grades-3-8
DTSTART:20260427T120000Z
DTEND:20260427T163000Z
END:VEVENT
END:VCALENDAR
