BEGIN:VCALENDAR
VERSION:2.0
PRODID:SchoolNow
CALSCALE:GREGORIAN
BEGIN:VEVENT
UID:ba7c69d8-52a6-11f0-b00b-0a58a9feac02
DTSTAMP:20260423T215115Z
SUMMARY:PSSA Make Ups
LOCATION:LGI
URL;VALUE=URI:https://www.rak12.org/calendar/8357401/pssa-make-ups
DTSTART:20260508T120000Z
DTEND:20260508T163000Z
END:VEVENT
END:VCALENDAR
