BEGIN:VCALENDAR
VERSION:2.0
PRODID:SchoolNow
CALSCALE:GREGORIAN
BEGIN:VEVENT
UID:ba7c734c-52a6-11f0-b7de-0a58a9feac02
DTSTAMP:20260423T215115Z
SUMMARY:Spring Keystone: Literature
LOCATION:LGI
URL;VALUE=URI:https://www.rak12.org/calendar/8357412/spring-keystone-litera
 ture
DTSTART:20260512T120000Z
DTEND:20260512T163000Z
END:VEVENT
END:VCALENDAR
