BEGIN:VCALENDAR
VERSION:2.0
PRODID:SchoolNow
CALSCALE:GREGORIAN
BEGIN:VEVENT
UID:ba7c7798-52a6-11f0-bd2f-0a58a9feac02
DTSTAMP:20260423T215115Z
SUMMARY:Spring Keystone Make Ups
LOCATION:LGI
URL;VALUE=URI:https://www.rak12.org/calendar/8357417/spring-keystone-make-u
 ps
DTSTART:20260521T120000Z
DTEND:20260521T163000Z
END:VEVENT
END:VCALENDAR
