BEGIN:VCALENDAR
VERSION:2.0
PRODID:SchoolNow
CALSCALE:GREGORIAN
BEGIN:VEVENT
UID:2c777aa6-5d9b-11f0-91b8-0a58a9feac02
DTSTAMP:20260423T215114Z
SUMMARY:9th Grade Class Meeting
LOCATION:US Gym
URL;VALUE=URI:https://www.rak12.org/calendar/8402520/9th-grade-class-meetin
 g
DTSTART:20260112T130000Z
DTEND:20260112T132000Z
END:VEVENT
END:VCALENDAR
