BEGIN:VCALENDAR
VERSION:2.0
PRODID:SchoolNow
CALSCALE:GREGORIAN
BEGIN:VEVENT
UID:2c777c7c-5d9b-11f0-8d95-0a58a9feac02
DTSTAMP:20260423T215114Z
SUMMARY:11th Grade Class Meeting
LOCATION:HS Flex
URL;VALUE=URI:https://www.rak12.org/calendar/8402522/11th-grade-class-meeti
 ng
DTSTART:20260115T130000Z
DTEND:20260115T132000Z
END:VEVENT
END:VCALENDAR
