BEGIN:VCALENDAR
VERSION:2.0
PRODID:SchoolNow
CALSCALE:GREGORIAN
BEGIN:VEVENT
UID:2c777d6c-5d9b-11f0-b790-0a58a9feac02
DTSTAMP:20260423T215114Z
SUMMARY:12th Grade Class Meeting
LOCATION:HS Flex
URL;VALUE=URI:https://www.rak12.org/calendar/8402523/12th-grade-class-meeti
 ng
DTSTART:20260116T130000Z
DTEND:20260116T132000Z
END:VEVENT
END:VCALENDAR
