BEGIN:VCALENDAR
VERSION:2.0
PRODID:SchoolNow
CALSCALE:GREGORIAN
BEGIN:VEVENT
UID:2c7781f4-5d9b-11f0-9d10-0a58a9feac02
DTSTAMP:20260423T215114Z
SUMMARY:Trimester Exams Grades 9-12
URL;VALUE=URI:https://www.rak12.org/calendar/8402528/trimester-exams-grades
 -9-12
DTSTART:20260227T160000Z
DTEND:20260227T180000Z
END:VEVENT
END:VCALENDAR
