BEGIN:VCALENDAR
VERSION:2.0
PRODID:SchoolNow
CALSCALE:GREGORIAN
BEGIN:VEVENT
UID:2c778762-5d9b-11f0-a9f4-0a58a9feac02
DTSTAMP:20260423T215114Z
SUMMARY:EOT Award Assembly
URL;VALUE=URI:https://www.rak12.org/calendar/8402534/eot-award-assembly
DTSTART;VALUE=DATE:20260324
DTEND;VALUE=DATE:20260325
END:VEVENT
END:VCALENDAR
