BEGIN:VCALENDAR
VERSION:2.0
PRODID:SchoolNow
CALSCALE:GREGORIAN
BEGIN:VEVENT
UID:2c778848-5d9b-11f0-8165-0a58a9feac02
DTSTAMP:20260423T215114Z
SUMMARY:9th Grade Homebase Games
LOCATION:US Gym
URL;VALUE=URI:https://www.rak12.org/calendar/8402535/9th-grade-homebase-gam
 es
DTSTART:20260309T120000Z
DTEND:20260309T122000Z
END:VEVENT
END:VCALENDAR
