BEGIN:VCALENDAR
VERSION:2.0
PRODID:SchoolNow
CALSCALE:GREGORIAN
BEGIN:VEVENT
UID:2c778a6e-5d9b-11f0-b115-0a58a9feac02
DTSTAMP:20260423T215114Z
SUMMARY:10th Grade Homebase Games
LOCATION:US Gym
URL;VALUE=URI:https://www.rak12.org/calendar/8402536/10th-grade-homebase-ga
 mes
DTSTART:20260310T120000Z
DTEND:20260310T122000Z
END:VEVENT
END:VCALENDAR
